BEGIN:VCALENDAR
VERSION:2.0
PRODID:-//hacksw/handcal//NONSGML v1.0//EN
BEGIN:VEVENT
SUMMARY:Equipe 3_Entrainement-Cours
UID:72b9a2a2-9c87-4b6d-a0b4-853ee5bb6f5b
DTSTART:20260429T120000Z
DTEND:20260429T133000Z
LOCATION:Localisation   
CATEGORIES:Entrainement
STATUS:
URL;VALUE=URI:https://www.tcsmb37.fr/evenements/2026/04/29/equipe-3-entrainement-cours-2388461
END:VEVENT
END:VCALENDAR
