BEGIN:VCALENDAR
VERSION:2.0
PRODID:-//hacksw/handcal//NONSGML v1.0//EN
BEGIN:VEVENT
SUMMARY:Equipe 2_Entrainement-Cours
UID:691f2277-3c3b-4a47-9b8d-adaaf8c004fe
DTSTART:20260403T160000Z
DTEND:20260403T170000Z
LOCATION:Localisation   
CATEGORIES:Entrainement
STATUS:
URL;VALUE=URI:https://www.tcsmb37.fr/evenements/2026/04/03/equipe-2-entrainement-cours-2388403
END:VEVENT
END:VCALENDAR
