BEGIN:VCALENDAR
VERSION:2.0
PRODID:-//hacksw/handcal//NONSGML v1.0//EN
BEGIN:VEVENT
SUMMARY:Equipe 1_Entrainement-Cours
UID:5e5c2707-3eae-4ba1-b74f-d9b8ee6e3a29
DTSTART:20260403T150000Z
DTEND:20260403T160000Z
LOCATION:Localisation   
CATEGORIES:Entrainement
STATUS:
URL;VALUE=URI:https://www.tcsmb37.fr/evenements/2026/04/03/equipe-1-entrainement-cours-2388431
END:VEVENT
END:VCALENDAR
