BEGIN:VCALENDAR
VERSION:2.0
PRODID:-//hacksw/handcal//NONSGML v1.0//EN
BEGIN:VEVENT
SUMMARY:Equipe 3_Entrainement-Cours
UID:8f8049b3-4196-49ec-b55d-710f4febf0a5
DTSTART:20260401T120000Z
DTEND:20260401T133000Z
LOCATION:Localisation   
CATEGORIES:Entrainement
STATUS:
URL;VALUE=URI:https://www.tcsmb37.fr/evenements/2026/04/01/equipe-3-entrainement-cours-2388457
END:VEVENT
END:VCALENDAR
